BEGIN:VCALENDAR
PRODID:-//www.undertheradar.co.nz//NONSGML Undertheradar//EN
VERSION:2.0
BEGIN:VEVENT
DESCRIPTION:Hyan 'We Mustn't' EP Tour Auckland - Il Brutto, Auckland
UID:1190175379-96377@undertheradar.co.nz
DTSTAMP:20250523T220000Z
DTSTART:20250523T220000
DTEND:20250523T220059
SUMMARY:Hyan 'We Mustn't' EP Tour Auckland
LOCATION:Il Brutto, Auckland
URL:http://www.undertheradar.co.nz/gig/96377/gig.utr
END:VEVENT
END:VCALENDAR

