BEGIN:VCALENDAR
PRODID:-//www.undertheradar.co.nz//NONSGML Undertheradar//EN
VERSION:2.0
BEGIN:VEVENT
DESCRIPTION:HARDPHORIA: LeStrange And I-SO - Neck of the Woods, Auckland
UID:1190175379-97662@undertheradar.co.nz
DTSTAMP:20250920T220000Z
DTSTART:20250920T220000
DTEND:20250920T220059
SUMMARY:HARDPHORIA: LeStrange And I-SO
LOCATION:Neck of the Woods, Auckland
URL:http://www.undertheradar.co.nz/gig/97662/gig.utr
END:VEVENT
END:VCALENDAR

